BEGIN:VCALENDAR
VERSION:2.0
PRODID:spatie/icalendar-generator
DESCRIPTION:Events from The Ohio Historical Records Advisory Board
X-WR-CALDESC:Events from The Ohio Historical Records Advisory Board
REFRESH-INTERVAL;VALUE=DURATION:PT1440M
X-PUBLISHED-TTL:PT1440M
BEGIN:VTIMEZONE
TZID:America/New_York
BEGIN:DAYLIGHT
DTSTART:20130310T020000Z
TZOFFSETFROM:-0500
TZOFFSETTO:-0400
END:DAYLIGHT
BEGIN:STANDARD
DTSTART:20131103T020000Z
TZOFFSETFROM:-0400
TZOFFSETTO:-0500
END:STANDARD
END:VTIMEZONE
BEGIN:VTIMEZONE
TZID:UTC
BEGIN:STANDARD
DTSTART:20250725T072447Z
TZOFFSETFROM:+0000
TZOFFSETTO:+0000
END:STANDARD
END:VTIMEZONE
BEGIN:VEVENT
UID:6-4
DTSTAMP:20260421T072447Z
SUMMARY:Society of American Archivists Annual Conference
LOCATION:New Orleans LA
ORGANIZER;CN=Fred Previts:MAILTO:fprevits@ohiohistory.org
DTSTART;TZID=America/New_York:20130812T000000
DTEND;TZID=America/New_York:20130812T000000
X-ALT-DESC;FMTTYPE=TEXT/HTML:
CATEGORIES:Professional Association Conference
URL;VALUE=URI:https://ohrab.org/mc-events/society-of-american-archivists-an
 nual-conference-7/
METHOD:PUBLISH
END:VEVENT
END:VCALENDAR